Package: rsemmed Version: 1.21.0 Command: /home/biocbuild/bbs-3.23-bioc/R/bin/R CMD build --keep-empty-dirs --no-resave-data rsemmed StartedAt: 2025-10-31 19:52:59 -0400 (Fri, 31 Oct 2025) EndedAt: 2025-10-31 19:53:23 -0400 (Fri, 31 Oct 2025) EllapsedTime: 24.0 seconds RetCode: 0 Status: OK PackageFile: rsemmed_1.21.0.tar.gz PackageFileSize: 2.219 MiB