Package: rsemmed Version: 1.21.0 Command: /Library/Frameworks/R.framework/Resources/bin/R CMD INSTALL rsemmed StartedAt: 2025-11-21 15:16:02 -0500 (Fri, 21 Nov 2025) EndedAt: 2025-11-21 15:16:22 -0500 (Fri, 21 Nov 2025) EllapsedTime: 20.6 seconds RetCode: 0 Status: OK