Package: rsemmed Version: 1.21.0 Command: /Library/Frameworks/R.framework/Resources/bin/R CMD build --keep-empty-dirs --no-resave-data rsemmed StartedAt: 2025-11-20 18:29:09 -0500 (Thu, 20 Nov 2025) EndedAt: 2025-11-20 18:29:43 -0500 (Thu, 20 Nov 2025) EllapsedTime: 34.4 seconds RetCode: 0 Status: OK PackageFile: rsemmed_1.21.0.tar.gz PackageFileSize: 2.283 MiB