Package: rsemmed Version: 1.19.0 Command: /Library/Frameworks/R.framework/Resources/bin/R CMD build --keep-empty-dirs --no-resave-data rsemmed StartedAt: 2025-10-23 17:38:11 -0400 (Thu, 23 Oct 2025) EndedAt: 2025-10-23 17:38:22 -0400 (Thu, 23 Oct 2025) EllapsedTime: 11.1 seconds RetCode: 0 Status: OK PackageFile: rsemmed_1.19.0.tar.gz PackageFileSize: 2.301 MiB