Package: rsbml Version: 2.67.0 Command: /home/biocbuild/bbs-3.22-bioc/R/bin/R CMD check --install=check:rsbml.install-out.txt --library=/home/biocbuild/bbs-3.22-bioc/R/site-library --timings rsbml_2.67.0.tar.gz StartedAt: 2025-10-16 04:22:42 -0400 (Thu, 16 Oct 2025) EndedAt: 2025-10-16 04:23:25 -0400 (Thu, 16 Oct 2025) EllapsedTime: 43.0 seconds RetCode: 0 Status: WARNINGS CheckDir: rsbml.Rcheck Warnings: 1