Package: rsbml Version: 2.69.0 Command: /home/biocbuild/bbs-3.23-bioc/R/bin/R CMD INSTALL rsbml StartedAt: 2025-11-04 15:11:17 -0500 (Tue, 04 Nov 2025) EndedAt: 2025-11-04 15:11:33 -0500 (Tue, 04 Nov 2025) EllapsedTime: 15.5 seconds RetCode: 0 Status: OK