Package: rsbml Version: 2.67.0 Maintainer: Michael Lawrence MaintainerEmail: michafla at gene.com git_url: https://git.bioconductor.org/packages/rsbml git_branch: devel git_last_commit: 7671d4c git_last_commit_date: 2025-04-15 09:41:01 -0400 (Tue, 15 Apr 2025)