Package: rrvgo Version: 1.23.0 Command: /home/biocbuild/bbs-3.23-bioc/R/bin/R CMD build --keep-empty-dirs --no-resave-data rrvgo StartedAt: 2025-11-20 19:43:15 -0500 (Thu, 20 Nov 2025) EndedAt: 2025-11-20 19:45:48 -0500 (Thu, 20 Nov 2025) EllapsedTime: 153.1 seconds RetCode: 0 Status: OK PackageFile: rrvgo_1.23.0.tar.gz PackageFileSize: 1.993 MiB