Package: rrvgo Version: 1.23.0 Command: /Library/Frameworks/R.framework/Resources/bin/R CMD INSTALL rrvgo StartedAt: 2025-11-21 15:39:40 -0500 (Fri, 21 Nov 2025) EndedAt: 2025-11-21 15:40:09 -0500 (Fri, 21 Nov 2025) EllapsedTime: 28.2 seconds RetCode: 0 Status: OK