Package: rrvgo Version: 1.23.0 Command: /Library/Frameworks/R.framework/Resources/bin/R CMD build --keep-empty-dirs --no-resave-data rrvgo StartedAt: 2025-11-21 18:28:17 -0500 (Fri, 21 Nov 2025) EndedAt: 2025-11-21 18:31:30 -0500 (Fri, 21 Nov 2025) EllapsedTime: 193.7 seconds RetCode: 0 Status: OK PackageFile: rrvgo_1.23.0.tar.gz PackageFileSize: 1.88 MiB