Package: rrvgo Version: 1.23.0 Command: rm -rf rrvgo.buildbin-libdir && mkdir rrvgo.buildbin-libdir && /Users/biocbuild/BBS/utils/build-universal.sh rrvgo_1.23.0.tar.gz /Library/Frameworks/R.framework/Resources/bin/R rrvgo.buildbin-libdir StartedAt: 2025-11-22 01:54:23 -0500 (Sat, 22 Nov 2025) EndedAt: 2025-11-22 01:54:55 -0500 (Sat, 22 Nov 2025) EllapsedTime: 32.4 seconds RetCode: 0 Status: OK PackageFile: rrvgo_1.23.0.tgz PackageFileSize: 1.408 MiB