Package: rrvgo Version: 1.21.5 Command: /Library/Frameworks/R.framework/Resources/bin/R CMD INSTALL rrvgo StartedAt: 2025-10-16 15:36:31 -0400 (Thu, 16 Oct 2025) EndedAt: 2025-10-16 15:36:39 -0400 (Thu, 16 Oct 2025) EllapsedTime: 8.5 seconds RetCode: 0 Status: OK