Package: rrvgo Version: 1.21.5 Command: /Library/Frameworks/R.framework/Resources/bin/R CMD build --keep-empty-dirs --no-resave-data rrvgo StartedAt: 2025-10-15 17:38:03 -0400 (Wed, 15 Oct 2025) EndedAt: 2025-10-15 17:39:14 -0400 (Wed, 15 Oct 2025) EllapsedTime: 70.8 seconds RetCode: 0 Status: OK PackageFile: rrvgo_1.21.5.tar.gz PackageFileSize: 1.881 MiB