Package: rrvgo Version: 1.21.5 Command: rm -rf rrvgo.buildbin-libdir && mkdir rrvgo.buildbin-libdir && /Users/biocbuild/BBS/utils/build-universal.sh rrvgo_1.21.5.tar.gz /Library/Frameworks/R.framework/Resources/bin/R rrvgo.buildbin-libdir StartedAt: 2025-10-16 23:15:38 -0400 (Thu, 16 Oct 2025) EndedAt: 2025-10-16 23:15:47 -0400 (Thu, 16 Oct 2025) EllapsedTime: 9.2 seconds RetCode: 0 Status: OK PackageFile: rrvgo_1.21.5.tgz PackageFileSize: 1.412 MiB