Package: rqubic Version: 1.57.0 Command: /home/biocbuild/bbs-3.23-bioc/R/bin/R CMD INSTALL rqubic StartedAt: 2025-11-20 15:11:57 -0500 (Thu, 20 Nov 2025) EndedAt: 2025-11-20 15:12:07 -0500 (Thu, 20 Nov 2025) EllapsedTime: 9.4 seconds RetCode: 0 Status: OK