Package: rqubic Version: 1.57.0 Command: /home/biocbuild/bbs-3.23-bioc/R/bin/R CMD build --keep-empty-dirs --no-resave-data rqubic StartedAt: 2025-11-20 19:43:07 -0500 (Thu, 20 Nov 2025) EndedAt: 2025-11-20 19:43:22 -0500 (Thu, 20 Nov 2025) EllapsedTime: 15.0 seconds RetCode: 0 Status: OK PackageFile: rqubic_1.57.0.tar.gz PackageFileSize: 189.9 KiB