Package: rqt Version: 1.37.0 Command: /home/biocbuild/bbs-3.23-bioc/R/bin/R CMD build --keep-empty-dirs --no-resave-data rqt StartedAt: 2025-11-20 19:43:06 -0500 (Thu, 20 Nov 2025) EndedAt: 2025-11-20 19:43:49 -0500 (Thu, 20 Nov 2025) EllapsedTime: 43.0 seconds RetCode: 0 Status: OK PackageFile: rqt_1.37.0.tar.gz PackageFileSize: 541.2 KiB