Package: rqt Version: 1.37.0 Command: /Library/Frameworks/R.framework/Resources/bin/R CMD INSTALL rqt StartedAt: 2025-11-20 15:27:57 -0500 (Thu, 20 Nov 2025) EndedAt: 2025-11-20 15:28:35 -0500 (Thu, 20 Nov 2025) EllapsedTime: 37.3 seconds RetCode: 0 Status: OK