Package: rqt Version: 1.37.0 Command: /Library/Frameworks/R.framework/Resources/bin/R CMD build --keep-empty-dirs --no-resave-data rqt StartedAt: 2025-11-20 18:28:48 -0500 (Thu, 20 Nov 2025) EndedAt: 2025-11-20 18:29:37 -0500 (Thu, 20 Nov 2025) EllapsedTime: 49.2 seconds RetCode: 0 Status: OK PackageFile: rqt_1.37.0.tar.gz PackageFileSize: 541.2 KiB