Package: rqt Version: 1.37.0 Command: rm -rf rqt.buildbin-libdir && mkdir rqt.buildbin-libdir && /Users/biocbuild/BBS/utils/build-universal.sh rqt_1.37.0.tar.gz /Library/Frameworks/R.framework/Resources/bin/R rqt.buildbin-libdir StartedAt: 2025-11-21 01:53:48 -0500 (Fri, 21 Nov 2025) EndedAt: 2025-11-21 01:54:29 -0500 (Fri, 21 Nov 2025) EllapsedTime: 41.5 seconds RetCode: 0 Status: OK PackageFile: rqt_1.37.0.tgz PackageFileSize: 910.7 KiB