Package: rqt Version: 1.35.0 Command: /Library/Frameworks/R.framework/Resources/bin/R CMD build --keep-empty-dirs --no-resave-data rqt StartedAt: 2025-10-10 17:33:11 -0400 (Fri, 10 Oct 2025) EndedAt: 2025-10-10 17:33:31 -0400 (Fri, 10 Oct 2025) EllapsedTime: 19.2 seconds RetCode: 0 Status: OK PackageFile: rqt_1.35.0.tar.gz PackageFileSize: 541.2 KiB