Package: rpx Version: 2.19.0 Command: /home/biocbuild/bbs-3.23-bioc/R/bin/R CMD INSTALL rpx StartedAt: 2025-11-20 15:08:47 -0500 (Thu, 20 Nov 2025) EndedAt: 2025-11-20 15:08:54 -0500 (Thu, 20 Nov 2025) EllapsedTime: 6.9 seconds RetCode: 0 Status: OK