Package: rpx Version: 2.19.0 Command: /home/biocbuild/bbs-3.23-bioc/R/bin/R CMD build --keep-empty-dirs --no-resave-data rpx StartedAt: 2025-11-20 19:42:56 -0500 (Thu, 20 Nov 2025) EndedAt: 2025-11-20 19:43:10 -0500 (Thu, 20 Nov 2025) EllapsedTime: 14.0 seconds RetCode: 0 Status: OK PackageFile: rpx_2.19.0.tar.gz PackageFileSize: 316.8 KiB