Package: rpx Version: 2.19.0 Command: /Library/Frameworks/R.framework/Resources/bin/R CMD INSTALL rpx StartedAt: 2025-11-20 15:16:32 -0500 (Thu, 20 Nov 2025) EndedAt: 2025-11-20 15:16:58 -0500 (Thu, 20 Nov 2025) EllapsedTime: 26.5 seconds RetCode: 0 Status: OK