Package: rpx Version: 2.19.0 Command: /Library/Frameworks/R.framework/Resources/bin/R CMD build --keep-empty-dirs --no-resave-data rpx StartedAt: 2025-11-20 18:28:38 -0500 (Thu, 20 Nov 2025) EndedAt: 2025-11-20 18:28:57 -0500 (Thu, 20 Nov 2025) EllapsedTime: 19.5 seconds RetCode: 0 Status: OK PackageFile: rpx_2.19.0.tar.gz PackageFileSize: 316.7 KiB