Package: rpx Version: 2.19.0 Command: rm -rf rpx.buildbin-libdir && mkdir rpx.buildbin-libdir && /Users/biocbuild/BBS/utils/build-universal.sh rpx_2.19.0.tar.gz /Library/Frameworks/R.framework/Resources/bin/R rpx.buildbin-libdir StartedAt: 2025-11-21 01:53:41 -0500 (Fri, 21 Nov 2025) EndedAt: 2025-11-21 01:53:54 -0500 (Fri, 21 Nov 2025) EllapsedTime: 12.6 seconds RetCode: 0 Status: OK PackageFile: rpx_2.19.0.tgz PackageFileSize: 486.7 KiB