Package: rprimer Version: 1.15.0 Command: /home/biocbuild/bbs-3.23-bioc/R/bin/R CMD INSTALL rprimer StartedAt: 2025-11-04 15:29:35 -0500 (Tue, 04 Nov 2025) EndedAt: 2025-11-04 15:29:54 -0500 (Tue, 04 Nov 2025) EllapsedTime: 18.9 seconds RetCode: 0 Status: OK