Package: rprimer Version: 1.15.0 Command: /home/biocbuild/bbs-3.23-bioc/R/bin/R CMD build --keep-empty-dirs --no-resave-data rprimer StartedAt: 2025-11-04 19:37:28 -0500 (Tue, 04 Nov 2025) EndedAt: 2025-11-04 19:38:31 -0500 (Tue, 04 Nov 2025) EllapsedTime: 63.1 seconds RetCode: 0 Status: OK PackageFile: rprimer_1.15.0.tar.gz PackageFileSize: 3.101 MiB