Package: rprimer Version: 1.13.0 Command: /Library/Frameworks/R.framework/Resources/bin/R CMD INSTALL rprimer StartedAt: 2025-10-09 15:27:16 -0400 (Thu, 09 Oct 2025) EndedAt: 2025-10-09 15:27:43 -0400 (Thu, 09 Oct 2025) EllapsedTime: 26.1 seconds RetCode: 0 Status: OK