Package: rprimer Version: 1.13.0 Command: /Library/Frameworks/R.framework/Resources/bin/R CMD build --keep-empty-dirs --no-resave-data rprimer StartedAt: 2025-10-09 18:53:13 -0400 (Thu, 09 Oct 2025) EndedAt: 2025-10-09 18:54:35 -0400 (Thu, 09 Oct 2025) EllapsedTime: 82.4 seconds RetCode: 0 Status: OK PackageFile: rprimer_1.13.0.tar.gz PackageFileSize: 3.22 MiB