Package: rprimer Version: 1.13.0 Command: rm -rf rprimer.buildbin-libdir && mkdir rprimer.buildbin-libdir && /Users/biocbuild/BBS/utils/build-universal.sh rprimer_1.13.0.tar.gz /Library/Frameworks/R.framework/Resources/bin/R rprimer.buildbin-libdir StartedAt: 2025-10-10 02:56:01 -0400 (Fri, 10 Oct 2025) EndedAt: 2025-10-10 02:56:32 -0400 (Fri, 10 Oct 2025) EllapsedTime: 31.1 seconds RetCode: 0 Status: OK PackageFile: rprimer_1.13.0.tgz PackageFileSize: 3.6 MiB