Package: ropls Version: 1.43.0 Command: /home/biocbuild/bbs-3.23-bioc/R/bin/R CMD INSTALL ropls StartedAt: 2025-11-20 15:20:54 -0500 (Thu, 20 Nov 2025) EndedAt: 2025-11-20 15:21:22 -0500 (Thu, 20 Nov 2025) EllapsedTime: 27.9 seconds RetCode: 0 Status: OK