Package: ropls Version: 1.43.0 Command: /home/biocbuild/bbs-3.23-bioc/R/bin/R CMD build --keep-empty-dirs --no-resave-data ropls StartedAt: 2025-11-20 19:42:24 -0500 (Thu, 20 Nov 2025) EndedAt: 2025-11-20 19:43:32 -0500 (Thu, 20 Nov 2025) EllapsedTime: 68.1 seconds RetCode: 0 Status: OK PackageFile: ropls_1.43.0.tar.gz PackageFileSize: 5.605 MiB