Package: ropls Version: 1.41.0 Command: /Library/Frameworks/R.framework/Resources/bin/R CMD build --keep-empty-dirs --no-resave-data ropls StartedAt: 2025-10-14 19:02:02 -0400 (Tue, 14 Oct 2025) EndedAt: 2025-10-14 19:03:47 -0400 (Tue, 14 Oct 2025) EllapsedTime: 105.5 seconds RetCode: 0 Status: OK PackageFile: ropls_1.41.0.tar.gz PackageFileSize: 5.542 MiB