Package: ropls Version: 1.41.0 Command: /Library/Frameworks/R.framework/Resources/bin/R CMD INSTALL ropls StartedAt: 2025-10-03 15:13:25 -0400 (Fri, 03 Oct 2025) EndedAt: 2025-10-03 15:13:37 -0400 (Fri, 03 Oct 2025) EllapsedTime: 11.6 seconds RetCode: 0 Status: OK