Package: ropls Version: 1.41.0 Command: /Library/Frameworks/R.framework/Resources/bin/R CMD build --keep-empty-dirs --no-resave-data ropls StartedAt: 2025-10-03 17:32:41 -0400 (Fri, 03 Oct 2025) EndedAt: 2025-10-03 17:33:09 -0400 (Fri, 03 Oct 2025) EllapsedTime: 28.3 seconds RetCode: 0 Status: OK PackageFile: ropls_1.41.0.tar.gz PackageFileSize: 5.544 MiB