Package: ropls Version: 1.41.0 Command: rm -rf ropls.buildbin-libdir && mkdir ropls.buildbin-libdir && /Users/biocbuild/BBS/utils/build-universal.sh ropls_1.41.0.tar.gz /Library/Frameworks/R.framework/Resources/bin/R ropls.buildbin-libdir StartedAt: 2025-10-03 22:53:32 -0400 (Fri, 03 Oct 2025) EndedAt: 2025-10-03 22:53:44 -0400 (Fri, 03 Oct 2025) EllapsedTime: 12.3 seconds RetCode: 0 Status: OK PackageFile: ropls_1.41.0.tgz PackageFileSize: 6.074 MiB