Package: ropls Version: 1.43.0 Maintainer: Etienne A. Thevenot MaintainerEmail: etienne.thevenot at cea.fr git_url: https://git.bioconductor.org/packages/ropls git_branch: devel git_last_commit: 3b278e8 git_last_commit_date: 2025-10-29 10:26:49 -0400 (Wed, 29 Oct 2025)