Package: rols Version: 3.7.0 Command: /home/biocbuild/bbs-3.23-bioc/R/bin/R CMD INSTALL rols StartedAt: 2025-10-31 15:22:09 -0400 (Fri, 31 Oct 2025) EndedAt: 2025-10-31 15:22:14 -0400 (Fri, 31 Oct 2025) EllapsedTime: 5.2 seconds RetCode: 0 Status: OK