Package: rols Version: 3.7.0 Command: /home/biocbuild/bbs-3.23-bioc/R/bin/R CMD build --keep-empty-dirs --no-resave-data rols StartedAt: 2025-10-31 19:51:53 -0400 (Fri, 31 Oct 2025) EndedAt: 2025-10-31 19:52:04 -0400 (Fri, 31 Oct 2025) EllapsedTime: 11.0 seconds RetCode: 1 Status: ERROR PackageFile: None PackageFileSize: NA