Package: rols Version: 3.7.0 Command: /Library/Frameworks/R.framework/Resources/bin/R CMD INSTALL rols StartedAt: 2025-11-23 15:08:19 -0500 (Sun, 23 Nov 2025) EndedAt: 2025-11-23 15:08:22 -0500 (Sun, 23 Nov 2025) EllapsedTime: 2.7 seconds RetCode: 0 Status: OK