Package: rols Version: 3.7.0 Command: /Library/Frameworks/R.framework/Resources/bin/R CMD build --keep-empty-dirs --no-resave-data rols StartedAt: 2025-11-23 17:30:52 -0500 (Sun, 23 Nov 2025) EndedAt: 2025-11-23 17:30:59 -0500 (Sun, 23 Nov 2025) EllapsedTime: 7.1 seconds RetCode: 1 Status: ERROR PackageFile: None PackageFileSize: NA