Package: roar Version: 1.45.0 Command: /home/biocbuild/bbs-3.22-bioc/R/bin/R CMD INSTALL roar StartedAt: 2025-10-05 15:31:25 -0400 (Sun, 05 Oct 2025) EndedAt: 2025-10-05 15:31:57 -0400 (Sun, 05 Oct 2025) EllapsedTime: 32.1 seconds RetCode: 0 Status: OK