Package: roar Version: 1.45.0 Command: /home/biocbuild/bbs-3.22-bioc/R/bin/R CMD build --keep-empty-dirs --no-resave-data --md5 roar StartedAt: 2025-10-06 19:41:36 -0400 (Mon, 06 Oct 2025) EndedAt: 2025-10-06 19:43:24 -0400 (Mon, 06 Oct 2025) EllapsedTime: 108.1 seconds RetCode: 0 Status: OK PackageFile: roar_1.45.0.tar.gz PackageFileSize: 902.9 KiB