Package: rnaseqcomp Version: 1.39.0 Command: /home/biocbuild/R/R/bin/R CMD INSTALL rnaseqcomp StartedAt: 2025-10-09 20:53:40 -0000 (Thu, 09 Oct 2025) EndedAt: 2025-10-09 20:54:21 -0000 (Thu, 09 Oct 2025) EllapsedTime: 41.5 seconds RetCode: 0 Status: OK