Package: rnaseqcomp Version: 1.39.0 Command: /home/biocbuild/R/R/bin/R CMD build --keep-empty-dirs --no-resave-data rnaseqcomp StartedAt: 2025-10-10 03:35:43 -0000 (Fri, 10 Oct 2025) EndedAt: 2025-10-10 03:36:14 -0000 (Fri, 10 Oct 2025) EllapsedTime: 31.1 seconds RetCode: 0 Status: OK PackageFile: rnaseqcomp_1.39.0.tar.gz PackageFileSize: 1.362 MiB