Package: rnaseqcomp Version: 1.39.0 Command: /home/biocbuild/bbs-3.22-bioc/R/bin/R CMD INSTALL rnaseqcomp StartedAt: 2025-10-03 15:03:42 -0400 (Fri, 03 Oct 2025) EndedAt: 2025-10-03 15:04:01 -0400 (Fri, 03 Oct 2025) EllapsedTime: 19.4 seconds RetCode: 0 Status: OK