Package: rnaseqcomp Version: 1.39.0 Command: /home/biocbuild/bbs-3.22-bioc/R/bin/R CMD check --install=check:rnaseqcomp.install-out.txt --library=/home/biocbuild/bbs-3.22-bioc/R/site-library --timings rnaseqcomp_1.39.0.tar.gz StartedAt: 2025-10-04 03:34:19 -0400 (Sat, 04 Oct 2025) EndedAt: 2025-10-04 03:35:02 -0400 (Sat, 04 Oct 2025) EllapsedTime: 43.0 seconds RetCode: 0 Status: OK CheckDir: rnaseqcomp.Rcheck Warnings: 0