Package: rnaseqcomp Version: 1.41.0 Command: /home/biocbuild/bbs-3.23-bioc/R/bin/R CMD INSTALL rnaseqcomp StartedAt: 2025-11-02 15:10:53 -0500 (Sun, 02 Nov 2025) EndedAt: 2025-11-02 15:11:13 -0500 (Sun, 02 Nov 2025) EllapsedTime: 19.4 seconds RetCode: 0 Status: OK