Package: rnaseqcomp Version: 1.41.0 Command: /home/biocbuild/bbs-3.23-bioc/R/bin/R CMD build --keep-empty-dirs --no-resave-data rnaseqcomp StartedAt: 2025-11-02 19:35:26 -0500 (Sun, 02 Nov 2025) EndedAt: 2025-11-02 19:35:42 -0500 (Sun, 02 Nov 2025) EllapsedTime: 16.0 seconds RetCode: 0 Status: OK PackageFile: rnaseqcomp_1.41.0.tar.gz PackageFileSize: 1.522 MiB